BEGIN:VCALENDAR
VERSION:2.0
PRODID:-//Squarespace Inc/Squarespace 6//v6//EN
BEGIN:VEVENT
UID:5667634fa12f443affad53bf@squarespace.com
DTSTAMP:20151209T001914Z
DTSTART:20151213T010000Z
DTEND:20151213T030000Z
SUMMARY:Wellington Santa Parade- Are you going?
END:VEVENT
END:VCALENDAR
