BEGIN:VCALENDAR
VERSION:2.0
PRODID:-//Squarespace Inc/Squarespace 6//v6//EN
BEGIN:VEVENT
UID:565ba271e4b0e91a03c73cde@squarespace.com
DTSTAMP:20151222T015407Z
DTSTART:20151223T230000Z
DTEND:20160110T190000Z
SUMMARY:Woolf Photography Holiday Hours
END:VEVENT
END:VCALENDAR
