BEGIN:VCALENDAR
VERSION:2.0
PRODID:-//Squarespace Inc/Squarespace 6//v6//EN
BEGIN:VEVENT
UID:5667764057eb8dc21f8ba7c9@squarespace.com
DTSTAMP:20151209T023148Z
DTSTART:20151215T050000Z
DTEND:20151215T073000Z
SUMMARY:VIP Invitation: Fine Art Photography & Jewellery 
END:VEVENT
END:VCALENDAR
