BEGIN:VCALENDAR
VERSION:2.0
PRODID:-//Squarespace Inc/Squarespace 6//v6//EN
BEGIN:VEVENT
UID:550754ede4b0109724a8ca90@squarespace.com
DTSTAMP:20150623T021128Z
DTSTART:20150625T213000Z
DTEND:20150628T053000Z
SUMMARY:Weekend workshop at bay of many coves
GEO:-41.285337;174.004769
LOCATION:Bay of Many Coves\, Arthur's bay\, Queen Charlotte sound\, Picton\
 , Picton\, New Zealand
END:VEVENT
END:VCALENDAR
