BEGIN:VCALENDAR
VERSION:2.0
PRODID:-//Squarespace Inc/Squarespace 6//v6//EN
BEGIN:VEVENT
UID:555172bbe4b0ac09774d030d@squarespace.com
DTSTAMP:20150512T033704Z
DTSTART:20150527T213000Z
DTEND:20150528T063000Z
SUMMARY:Graduation Massey University Wellington
END:VEVENT
END:VCALENDAR
