BEGIN:VCALENDAR
VERSION:2.0
PRODID:-//Squarespace Inc/Squarespace 6//v6//EN
BEGIN:VEVENT
UID:557a1f42e4b042dc8bcacb49@squarespace.com
DTSTAMP:20150612T045538Z
DTSTART:20150613T060000Z
DTEND:20150613T100000Z
SUMMARY:NZ Eco Fashion Week - Runway Show
END:VEVENT
END:VCALENDAR
