BEGIN:VCALENDAR
VERSION:2.0
PRODID:-//Squarespace Inc/Squarespace 6//v6//EN
BEGIN:VEVENT
UID:55ac2cbee4b0a70ba6d79d80@squarespace.com
DTSTAMP:20150721T223805Z
DTSTART:20150724T220000Z
DTEND:20150803T050000Z
SUMMARY:"Wellington Viewed" by Simon Woolf\,  Exhibition and Workshops @ Ac
 ademy of Fine Arts Wellington
END:VEVENT
END:VCALENDAR
