BEGIN:VCALENDAR
VERSION:2.0
PRODID:-//Squarespace Inc/Squarespace 6//v6//EN
BEGIN:VEVENT
UID:55c9306be4b0423ff5a83474@squarespace.com
DTSTAMP:20150811T001853Z
DTSTART:20150820T200000Z
DTEND:20150821T050000Z
SUMMARY:Supporting Red Nose Day!
END:VEVENT
END:VCALENDAR
