BEGIN:VCALENDAR
VERSION:2.0
PRODID:-//Squarespace Inc/Squarespace 6//v6//EN
BEGIN:VEVENT
UID:55d6beb4e4b01db9e431f66b@squarespace.com
DTSTAMP:20150821T061750Z
DTSTART:20150822T220000Z
DTEND:20150823T050000Z
SUMMARY:Capital City Wedding Expo
END:VEVENT
END:VCALENDAR
