BEGIN:VCALENDAR
VERSION:2.0
PRODID:-//Squarespace Inc/Squarespace 6//v6//EN
BEGIN:VEVENT
UID:55dab0eee4b046e163c70ff4@squarespace.com
DTSTAMP:20150824T061424Z
DTSTART:20151009T203000Z
DTEND:20151010T033000Z
SUMMARY:A personalised Wairarapa Photography Tour ...
END:VEVENT
END:VCALENDAR
