BEGIN:VCALENDAR
VERSION:2.0
PRODID:-//Squarespace Inc/Squarespace 6//v6//EN
BEGIN:VEVENT
UID:55c940fee4b0d948d2bb7b9d@squarespace.com
DTSTAMP:20150902T110712Z
DTSTART:20150905T200000Z
DTEND:20150906T050000Z
SUMMARY:Don't forget Father's Day!
END:VEVENT
END:VCALENDAR
