BEGIN:VCALENDAR
VERSION:2.0
PRODID:-//Squarespace Inc/Squarespace 6//v6//EN
BEGIN:VEVENT
UID:55e6ca34e4b0fcb79a38da69@squarespace.com
DTSTAMP:20150902T110126Z
DTSTART:20150908T220000Z
DTEND:20150909T050000Z
SUMMARY:Show Me Wellington @TSB Arena 
END:VEVENT
END:VCALENDAR
