BEGIN:VCALENDAR
VERSION:2.0
PRODID:-//Squarespace Inc/Squarespace 6//v6//EN
BEGIN:VEVENT
UID:56b1784e4c2f8593a90cd846@squarespace.com
DTSTAMP:20160203T044404Z
DTSTART:20160211T063000Z
DTEND:20160211T083000Z
SUMMARY:"GET SHOOTING" - a Talk by Simon Woolf
GEO:-41.29661;174.784199
LOCATION:The Tararua Tramping Club\,\, 4 Moncrieff St\, in Mt Victoria.\, W
 ellington\, New Zealand
END:VEVENT
END:VCALENDAR
