BEGIN:VCALENDAR
VERSION:2.0
PRODID:-//Squarespace Inc/Squarespace 6//v6//EN
BEGIN:VEVENT
UID:56e0d43d2eeb812f63303838@squarespace.com
DTSTAMP:20160310T034002Z
DTSTART:20160416T200300Z
DTEND:20160417T050000Z
SUMMARY:Landscape Nature Photography Workshop with Simon Woolf
END:VEVENT
END:VCALENDAR
