BEGIN:VCALENDAR
VERSION:2.0
PRODID:-//Squarespace Inc/Squarespace 6//v6//EN
BEGIN:VEVENT
UID:56e1e4ecf8baf3bc5475aaa0@squarespace.com
DTSTAMP:20160419T034237Z
DTSTART:20160526T200000Z
DTEND:20160529T031500Z
SUMMARY:Photography Retreat with Simon Woolf- Bay of Many Coves Resort
END:VEVENT
END:VCALENDAR
