BEGIN:VCALENDAR
VERSION:2.0
PRODID:-//Squarespace Inc/Squarespace 6//v6//EN
BEGIN:VEVENT
UID:5731443c2b8dded92ff659dc@squarespace.com
DTSTAMP:20160510T023846Z
DTSTART:20160517T000000Z
DTEND:20160519T060000Z
SUMMARY:Victoria University Graduations
END:VEVENT
END:VCALENDAR
