BEGIN:VCALENDAR
VERSION:2.0
PRODID:-//Squarespace Inc/Squarespace 6//v6//EN
BEGIN:VEVENT
UID:5761f0d88419c2a213b3f9a0@squarespace.com
DTSTAMP:20160616T005637Z
DTSTART:20160617T220000Z
DTEND:20160724T050000Z
SUMMARY:Environment: Celebration and Conservation Exhibition @Academy of Fi
 ne Arts
END:VEVENT
END:VCALENDAR
