BEGIN:VCALENDAR
VERSION:2.0
PRODID:-//Squarespace Inc/Squarespace 6//v6//EN
BEGIN:VEVENT
UID:577b01c459cc68071c01f3c0@squarespace.com
DTSTAMP:20160705T024542Z
DTSTART:20160716T220000Z
DTEND:20160717T020000Z
SUMMARY:The Phenomenal Phone Photography  Workshops @ NZAFA
END:VEVENT
END:VCALENDAR
