BEGIN:VCALENDAR
VERSION:2.0
PRODID:-//Squarespace Inc/Squarespace 6//v6//EN
BEGIN:VEVENT
UID:577afb73579fb30e7f408522@squarespace.com
DTSTAMP:20160705T024429Z
DTSTART:20160630T223000Z
DTEND:20160714T030000Z
SUMMARY:Environment Wellington: Huawei P9 Photo Competition
END:VEVENT
END:VCALENDAR
