BEGIN:VCALENDAR
VERSION:2.0
PRODID:-//Squarespace Inc/Squarespace 6//v6//EN
BEGIN:VEVENT
UID:560d0786e4b09013d3d0197c@squarespace.com
DTSTAMP:20151001T102622Z
DTSTART:20151001T193000Z
DTEND:20151009T053000Z
SUMMARY:Spring Feedback Survey  #FeedbackFriday!
END:VEVENT
END:VCALENDAR
